BEGIN:VCALENDAR
VERSION:2.0
PRODID:spatie/icalendar-generator
DESCRIPTION:Veranstaltungen von BTGA e. V.
X-WR-CALDESC:Veranstaltungen von BTGA e. V.
REFRESH-INTERVAL;VALUE=DURATION:PT1440M
X-PUBLISHED-TTL:PT1440M
BEGIN:VTIMEZONE
TZID:Etc/GMT+0
BEGIN:STANDARD
DTSTART:20220825T000000Z
TZOFFSETFROM:+0000
TZOFFSETTO:+0000
END:STANDARD
END:VTIMEZONE
BEGIN:VTIMEZONE
TZID:UTC
BEGIN:STANDARD
DTSTART:20250724T085206Z
TZOFFSETFROM:+0000
TZOFFSETTO:+0000
END:STANDARD
END:VTIMEZONE
BEGIN:VEVENT
UID:34-34
DTSTAMP:20260420T085206Z
SUMMARY:Labelseminar \"Bauleitender Obermonteur BTGA\"
LOCATION:
ORGANIZER;CN=KellerBnwP:MAILTO:info@dtp-team.com
DTSTART;TZID=Etc/GMT+0:20230522T000000
DTEND;TZID=Etc/GMT+0:20230526T010000
X-ALT-DESC;FMTTYPE=TEXT/HTML:Woche 2 A.M.M. GmbH Wetzlaer Str. 86 14482 Pot
 sdam
CATEGORIES:Seminar
URL;VALUE=URI:https://www.btga.de/mc-events/labelseminar-bauleitender-oberm
 onteur-btga-4/
METHOD:PUBLISH
END:VEVENT
END:VCALENDAR